BEGIN:VCALENDAR
PRODID:NingEventWidget-v1
VERSION:2.0
METHOD:PUBLISH
BEGIN:VTIMEZONE
TZID:Europe/Berlin
X-LIC-LOCATION:Europe/Berlin
BEGIN:DAYLIGHT
TZOFFSETFROM:+0100
TZOFFSETTO:+0200
TZNAME:CEST
DTSTART:19700329T020000
RRULE:FREQ=YEARLY;BYMONTH=3;BYDAY=-1SU
END:DAYLIGHT
BEGIN:STANDARD
TZOFFSETFROM:+0200
TZOFFSETTO:+0100
TZNAME:CET
DTSTART:19701025T030000
RRULE:FREQ=YEARLY;BYMONTH=10;BYDAY=-1SU
END:STANDARD
END:VTIMEZONE
BEGIN:VEVENT
UID:2870767:Event:49068
DTSTAMP:20260420T074132Z
SUMMARY:Basischen Loslass â€“ Entschlackungs - und   WohlfÃ¼hlwoche
DESCRIPTION:Basischen Loslass â€“ Entschlackungs - und WohlfÃ¼hlwoche\
 nDer Â Weg zu Deiner WohlfÃ¼hlfigur\nmit UnterstÃ¼tzung durch die kaus
 ale Quantenheilung\nEinen Flyer zum ausdrucken findest Du hier:Flyer%2
 0Basenfasten.pdf\nkostenloser EinfÃ¼hrungsvortrag mit Gerlinde Maier\n
 Sonntag , 2. MÃ¤rz 13.30 Ihr Bayrischer Hof Rehlings-88138 WeiÃŸensber
 g www.Bayrischer-Hof-Rehlings.de\nMittwoch,26. Februar 20 Uhr Â im Tel
 efon KonferenzraumÂ \nÂ \nEin 7 Tage Programm fÃ¼r KÃ¶rper, Geist und 
 Seele im Alltag\n\nentschlacken, entgiften, loslassen ...\nalten Balla
 st los-zulassen\nden SÃ¤ure -Basen Haushalt in Balance zu bringen\num 
 Deine WohlfÃ¼hlfigur zu erreichen\num vollkommene Gesundheit auf allen
  EbenenÂ  zu verursachen\num neue ErnÃ¤hrungsgewohnheiten zu schaffen\
 ndem KÃ¶rper weniger Nahrung geben,nur das was ihn nicht belastet\nder
  Seele viel Nahrung geben\ndein KÃ¶rper dankt es Dir mit VitalitÃ¤t, L
 eichtigkeit , Lebensfreude und 2 bis 3 kg weniger\n\nÂ Â  Â  Â  Â Du f
 Ã¼hlst Dich wie neu geboren\n\nDu bist herzlich eingeladen zum praktis
 chen mitmachen\nÂ Gerade die Fastenzeit Â bietet sich an den KÃ¶rper v
 on altem Ballast zu befreien\nund dadurch Â auch neue ErnÃ¤hrungs- und
  Lebensgewohnheiten in Dein Leben einzubauen.\nDie Entschlackungswoche
  beginnt Â am Aschermittwoch, 5. MÃ¤rz 2014Â . Â In dieser Woche treff
 en wir uns in einem Â Telefon - Konferenzraum, zum Erfahrungsaustausch
  und zur Meditation und lÃ¶sen von energetischen Schlacken .\nDie Woch
 e kannst Du problemlos in den Alltag integrieren .\nEin ausfÃ¼hrliches
  Konzept mit genauer Anleitung und fÃ¼r jeden Tag, Einkaufsliste und B
 egleitung kannst Du fÃ¼r 30.00 â‚¬Â  erhalten.\nDu benÃ¶tigst noch unt
 erstÃ¼tzende Entschlackungsproduckte im Wert von ca. 75.00 â‚¬\nEinzel
 sitzung mit der kausalen Quantenheilung in dieser Woche fÃ¼r 35.00 â‚¬
 \nBei Interesse maile ich Dir die Telefonnummer fÃ¼r den Konferenzraum
 . Du bezahlst die normalen TelefongebÃ¼hren mit eine Flatrate also kos
 tenlos.\nIch freue michÂ  sehr diese Woche und die wunderbaren Erfahru
 ngen mit Â Dir teilen zu dÃ¼rfen.\nGerlinde\n\nVita Nova LebensschuleÂ
  Â  Gerlinde Maier Â Schloss Kirchberg 6Â  Â D -88090 Immenstaad Â Tel
 . 0049 (0) 7545 901488 mobil 0170 4923 718 Â tepperweinseminare@google
 mail.comÂ  www.kausal-training.ning.com\nÂ  Â \nÂ \nÂ \nÂ \nÂ \n\nWeit
 ere Informationen erhalten Sie unter https://kausal-training.ning.com/
 events/basischen-loslass-entschlackungs-und-wohlfuhlwoche
DTSTART;TZID=Europe/Berlin:20140305T000000
DTEND;TZID=Europe/Berlin:20140312T235900
CATEGORIES:basenwoche
LOCATION:von zu Hause aus mit Begleitung im Konferenzraum
WEBSITE:
URL:
CONTACT:07545 - 901488
ORGANIZER;CN="Gerlinde Maier":https://kausal-training.ning.com/profile
 /GerlindeMaier3
ATTACH;FMTTYPE="image/jpeg":http://storage.ning.com/topology/rest/1.0/
 file/get/104565367?profile=original
ATTENDEE;ROLE=REQ-PARTICIPANT;PARTSTAT=ACCEPTED;RSVP=TRUE;CN="Gerlinde
  Maier":https://kausal-training.ning.com/profile/GerlindeMaier3
END:VEVENT
END:VCALENDAR
